BEGIN:VCALENDAR
VERSION:2.0
PRODID:-//hacksw/handcal//NONSGML v1.0//EN
CALSCALE:GREGORIAN
BEGIN:VEVENT
SUMMARY:UNCCD 16th session of the Conference of the Parties
LOCATION:
DESCRIPTION:
DTSTART:20241202T000000Z
DTEND:20241213T000000Z
URL;VALUE=URI:
DTSTAMP:20260423T235017Z
UID:69eab039a5273
END:VEVENT
END:VCALENDAR