BEGIN:VCALENDAR
VERSION:2.0
PRODID:-//hacksw/handcal//NONSGML v1.0//EN
CALSCALE:GREGORIAN
BEGIN:VEVENT
SUMMARY:How should governments respond to crises? Rapid response using RIAPA modeling system
LOCATION:
DESCRIPTION:
DTSTART:20240813T000000Z
DTEND:20240813T000000Z
URL;VALUE=URI:
DTSTAMP:20260420T222807Z
UID:69e6a8770e70a
END:VEVENT
END:VCALENDAR