BEGIN:VCALENDAR
VERSION:2.0
PRODID:-//hacksw/handcal//NONSGML v1.0//EN
CALSCALE:GREGORIAN
BEGIN:VEVENT
SUMMARY:Envisioning future scaling of clean energy business models through the lens of a nexus approach
LOCATION:
DESCRIPTION:
DTSTART:20240808T000000Z
DTEND:20240808T000000Z
URL;VALUE=URI:
DTSTAMP:20260420T112717Z
UID:69e60d95ef2da
END:VEVENT
END:VCALENDAR