BEGIN:VCALENDAR
VERSION:2.0
PRODID:-//hacksw/handcal//NONSGML v1.0//EN
CALSCALE:GREGORIAN
BEGIN:VEVENT
SUMMARY:Webinar: Reversing groundwater depletion in Northwest India: Insights from agronomic interventions and potential opportunities
LOCATION:
DESCRIPTION:
DTSTART:20240829T000000Z
DTEND:20240829T000000Z
URL;VALUE=URI:
DTSTAMP:20260421T014824Z
UID:69e6d7685ffa5
END:VEVENT
END:VCALENDAR