BEGIN:VCALENDAR
VERSION:2.0
PRODID:-//hacksw/handcal//NONSGML v1.0//EN
CALSCALE:GREGORIAN
BEGIN:VEVENT
SUMMARY:Against the grain: Could farmers feed the world and heal the planet?
LOCATION:
DESCRIPTION:
DTSTART:20240827T000000Z
DTEND:20240827T000000Z
URL;VALUE=URI:
DTSTAMP:20260421T071152Z
UID:69e72338b38b3
END:VEVENT
END:VCALENDAR