BEGIN:VCALENDAR
VERSION:2.0
PRODID:-//hacksw/handcal//NONSGML v1.0//EN
CALSCALE:GREGORIAN
BEGIN:VEVENT
SUMMARY:NEXUS Gains at World Water Week
LOCATION:
DESCRIPTION:
DTSTART:20240825T000000Z
DTEND:20240829T000000Z
URL;VALUE=URI:
DTSTAMP:20260425T213346Z
UID:69ed333a5189c
END:VEVENT
END:VCALENDAR