BEGIN:VCALENDAR
VERSION:2.0
PRODID:-//hacksw/handcal//NONSGML v1.0//EN
CALSCALE:GREGORIAN
BEGIN:VEVENT
SUMMARY:International Day of Awareness of Food Loss and Waste
LOCATION:
DESCRIPTION:
DTSTART:20240929T000000Z
DTEND:20240929T000000Z
URL;VALUE=URI:
DTSTAMP:20260421T071148Z
UID:69e723344c05a
END:VEVENT
END:VCALENDAR