BEGIN:VCALENDAR
VERSION:2.0
PRODID:-//hacksw/handcal//NONSGML v1.0//EN
CALSCALE:GREGORIAN
BEGIN:VEVENT
SUMMARY:Fostering operational excellence: Lean Leadership microlearning launch
LOCATION:
DESCRIPTION:
DTSTART:20240903T000000Z
DTEND:20240903T000000Z
URL;VALUE=URI:
DTSTAMP:20260420T222757Z
UID:69e6a86d0d014
END:VEVENT
END:VCALENDAR