BEGIN:VCALENDAR
VERSION:2.0
PRODID:-//hacksw/handcal//NONSGML v1.0//EN
CALSCALE:GREGORIAN
BEGIN:VEVENT
SUMMARY:Innovation Scaling Preparedness Workshop &#8211\; Uganda
LOCATION:
DESCRIPTION:
DTSTART:20240930T000000Z
DTEND:20240930T000000Z
URL;VALUE=URI:
DTSTAMP:20260426T013854Z
UID:69ed6cae4e914
END:VEVENT
END:VCALENDAR