BEGIN:VCALENDAR
VERSION:2.0
PRODID:-//hacksw/handcal//NONSGML v1.0//EN
CALSCALE:GREGORIAN
BEGIN:VEVENT
SUMMARY:Innovation Scaling Preparedness Workshop &#8211\; Nigeria
LOCATION:
DESCRIPTION:
DTSTART:20240925T000000Z
DTEND:20240925T000000Z
URL;VALUE=URI:
DTSTAMP:20260420T153242Z
UID:69e6471a68d9b
END:VEVENT
END:VCALENDAR