BEGIN:VCALENDAR
VERSION:2.0
PRODID:-//hacksw/handcal//NONSGML v1.0//EN
CALSCALE:GREGORIAN
BEGIN:VEVENT
SUMMARY:Co-creating and Scaling Up Solutions for agrifood systems in East and Southern Africa
LOCATION:
DESCRIPTION:
DTSTART:20240905T000000Z
DTEND:20240905T000000Z
URL;VALUE=URI:
DTSTAMP:20260425T220008Z
UID:69ed39686f079
END:VEVENT
END:VCALENDAR