BEGIN:VCALENDAR
VERSION:2.0
PRODID:-//hacksw/handcal//NONSGML v1.0//EN
CALSCALE:GREGORIAN
BEGIN:VEVENT
SUMMARY:When Governments Talk Anticipatory Action: The Silver Bullet for Disaster Risk Reduction\, or Just Wishful Thinking?
LOCATION:
DESCRIPTION:
DTSTART:20241007T000000Z
DTEND:20241007T000000Z
URL;VALUE=URI:
DTSTAMP:20260426T013827Z
UID:69ed6c9359964
END:VEVENT
END:VCALENDAR