BEGIN:VCALENDAR
VERSION:2.0
PRODID:-//hacksw/handcal//NONSGML v1.0//EN
CALSCALE:GREGORIAN
BEGIN:VEVENT
SUMMARY:Launch Webinar: Building the Crop Breeding Capacity of CGIAR and Partners with a new Learning Management System
LOCATION:
DESCRIPTION:
DTSTART:20241015T000000Z
DTEND:20241015T000000Z
URL;VALUE=URI:
DTSTAMP:20260420T134315Z
UID:69e62d7301a26
END:VEVENT
END:VCALENDAR